BEGIN:VCALENDAR
VERSION:2.0
PRODID:-//F&ouml;rderverein der Hochschule f&uuml;r Polizei Baden-W&uuml;rttemberg - ECPv6.15.20//NONSGML v1.0//EN
CALSCALE:GREGORIAN
METHOD:PUBLISH
X-WR-CALNAME:F&ouml;rderverein der Hochschule f&uuml;r Polizei Baden-W&uuml;rttemberg
X-ORIGINAL-URL:https://pro-hfpol.de
X-WR-CALDESC:Veranstaltungen für F&ouml;rderverein der Hochschule f&uuml;r Polizei Baden-W&uuml;rttemberg
REFRESH-INTERVAL;VALUE=DURATION:PT1H
X-Robots-Tag:noindex
X-PUBLISHED-TTL:PT1H
BEGIN:VTIMEZONE
TZID:UTC
BEGIN:STANDARD
TZOFFSETFROM:+0000
TZOFFSETTO:+0000
TZNAME:UTC
DTSTART:20240101T000000
END:STANDARD
END:VTIMEZONE
BEGIN:VEVENT
DTSTART;TZID=UTC:20250327T100000
DTEND;TZID=UTC:20250327T120000
DTSTAMP:20260422T095259
CREATED:20241203T151513Z
LAST-MODIFIED:20241217T081054Z
UID:421-1743069600-1743076800@pro-hfpol.de
SUMMARY:Verabschiedung des 47. Studienjahrgangs
DESCRIPTION:Sporthalle – Campus Villingen-Schwenningen \nEs handelt sich um eine teilöffentliche Veranstaltung mit geladenen Gästen
URL:https://pro-hfpol.de/event/testeintrag/
LOCATION:HfPolBW VS\, Sturmbühlstr.250\, Villingen-Schwenningen\, 78054\, Germany
CATEGORIES:Verabschiedungsfeier
ORGANIZER;CN="Hochschule f%C3%BCr Polizei Baden-W%C3%BCrttemberg":MAILTO:info@pro-hfpol.de
END:VEVENT
END:VCALENDAR